BEGIN:VCALENDAR
VERSION:2.0
PRODID:-//wp-events-plugin.com//7.2.3.1//EN
TZID:Europe/Berlin
X-WR-TIMEZONE:Europe/Berlin
BEGIN:VEVENT
UID:1@herbertwuescher.com
DTSTART;TZID=Europe/Berlin:20240812T000000
DTEND;TZID=Europe/Berlin:20240815T000000
DTSTAMP:20250901T155407Z
URL:https://herbertwuescher.com/events/1-internationaler-gesangswettbewerb
 -romana-vaccaro/
SUMMARY:1. Internationaler Gesangswettbewerb Romana Vaccaro
DESCRIPTION:Romana Vaccaro war vor allem die Förderung junger Gesangstalen
 te eine Herzensangelegenheit.  Jeder Opernsänger hat eine Traumrolle. Di
 eser Traum wird nun wahr für den Gewinner des 1. Operngesangswettbewerbs 
 Romana Vaccaro.  Wir werden hier einen Preis vergeben\, der noch nie zuvo
 r vergeben wurde! \n\nDer Gewinner unseres Wettbewerbes darf sich die Op
 er oder Operette aussuchen\, die er sich wünscht. Von Aida über Turandot
  bis  La Bohème und Cavalleria Rusticana bis Otello\, von Andrea Chenier
  bis zu La Cenerentola und 40 weitere Opern oder Operetten.\n\nOpera Class
 ica Europa wird 2025 eine Produktion für diese(n) Sänger(in) produzieren
 . Opera Classica verfügt über 4000 historische Kostüme und Bühnenbilde
 r für 40 verschiedene Produktionen. Seit nunmehr 20 Jahren inszeniert Ope
 ra Classica Europa Opern und Operetten im klassischen Stil. Wir freuen uns
  sehr darauf\, für den Gewinner unseres Wettbewerbs einen Traum wahr werd
 en zu lassen. \n\nhttps://www.wiesbadener-kurier.de/lokales/kreis-rheinga
 u-taunus/bad-schwalbach-kreis-rheingau-taunus/gesangswettbewerb-in-bad-sch
 walbach-zu-ehren-romana-vaccaros-3498486\n\n&nbsp\;
ATTACH;FMTTYPE=image/jpeg:https://herbertwuescher.com/wp-content/uploads/2
 024/07/Gesangswettbewerb-Romana-Vaccaro.jpg
LOCATION:Kurhaus Bad Schwalbach\, Am Kurpark 3\, Bad Schwalbach\, Hessen\, 
 6530\, Deutschland
X-APPLE-STRUCTURED-LOCATION;VALUE=URI;X-ADDRESS=Am Kurpark 3\, Bad Schwalba
 ch\, Hessen\, 6530\, Deutschland;X-APPLE-RADIUS=100;X-TITLE=Kurhaus Bad Sc
 hwalbach:geo:0,0
END:VEVENT
BEGIN:VTIMEZONE
TZID:Europe/Berlin
X-LIC-LOCATION:Europe/Berlin
BEGIN:DAYLIGHT
DTSTART:20240331T030000
TZOFFSETFROM:+0100
TZOFFSETTO:+0200
TZNAME:CEST
END:DAYLIGHT
END:VTIMEZONE
END:VCALENDAR