BEGIN:VCALENDAR
VERSION:2.0
PRODID:-//wp-events-plugin.com//7.2.3.1//EN
TZID:Europe/Berlin
X-WR-TIMEZONE:Europe/Berlin
BEGIN:VEVENT
UID:4@herbertwuescher.com
DTSTART;TZID=Europe/Berlin:20241203T150000
DTEND;TZID=Europe/Berlin:20241203T163000
DTSTAMP:20250903T093023Z
URL:https://herbertwuescher.com/events/sternschnuppenmarkt/
SUMMARY:Sternschnuppenmarkt
DESCRIPTION:Benefizkonzert anlässlich des internationalen Tages der Mensch
 en mit Behinderung zusammen mit Pianist und Sänger Yannick Zirngibl von T
 hirdline\n\nOrganisiert vom Wiesbadener Verein Sunrise – der Interessenv
 erband für Menschen mit Behinderung e. V.
ATTACH;FMTTYPE=image/jpeg:https://herbertwuescher.com/wp-content/uploads/2
 024/08/sternschnuppenmarkt.jpg
LOCATION:Schlossplatz Wiesbaden\, Schlossplatz\, Wiesbaden\, 65183\, Deutsc
 hland
X-APPLE-STRUCTURED-LOCATION;VALUE=URI;X-ADDRESS=Schlossplatz\, Wiesbaden\, 
 65183\, Deutschland;X-APPLE-RADIUS=100;X-TITLE=Schlossplatz Wiesbaden:geo:
 0,0
END:VEVENT
BEGIN:VTIMEZONE
TZID:Europe/Berlin
X-LIC-LOCATION:Europe/Berlin
BEGIN:STANDARD
DTSTART:20241027T020000
TZOFFSETFROM:+0200
TZOFFSETTO:+0100
TZNAME:CET
END:STANDARD
END:VTIMEZONE
END:VCALENDAR